BEGIN:VCALENDAR
VERSION:2.0
PRODID:-//wp-events-plugin.com//7.2.3.1//EN
TZID:America/New_York
X-WR-TIMEZONE:America/New_York
BEGIN:VEVENT
UID:3994@lickingevents.com
DTSTART;TZID=America/New_York:20260419T130000
DTEND;TZID=America/New_York:20260419T140000
DTSTAMP:20260311T205009Z
URL:https://lickingevents.com/events/voice-and-clarinet-recitals-by-junior
 s-maya-sutte-and-aurora-hodar/
SUMMARY:Voice and clarinet recitals by juniors Maya Sutte and Aurora Hodar
DESCRIPTION:
CATEGORIES:Entertainment
LOCATION:Burke Recital Hall in Eisner Center and Denison University\, 240 W
  Broadway\, Granville\, Ohio\, 43023\, United States
GEO:40.069083;-82.523192
X-APPLE-STRUCTURED-LOCATION;VALUE=URI;X-ADDRESS=240 W Broadway\, Granville\
 , Ohio\, 43023\, United States;X-APPLE-RADIUS=100;X-TITLE=Burke Recital Ha
 ll in Eisner Center and Denison University:geo:40.069083,-82.523192
END:VEVENT
BEGIN:VTIMEZONE
TZID:America/New_York
X-LIC-LOCATION:America/New_York
BEGIN:DAYLIGHT
DTSTART:20260308T030000
TZOFFSETFROM:-0500
TZOFFSETTO:-0400
TZNAME:EDT
END:DAYLIGHT
END:VTIMEZONE
END:VCALENDAR