BEGIN:VCALENDAR
VERSION:2.0
PRODID:-//wp-events-plugin.com//7.2.3.1//EN
TZID:America/New_York
X-WR-TIMEZONE:America/New_York
BEGIN:VEVENT
UID:3421@lickingevents.com
DTSTART;TZID=America/New_York:20251023T190000
DTEND;TZID=America/New_York:20251023T210000
DTSTAMP:20250820T183542Z
URL:https://lickingevents.com/events/the-vail-series-presents-gabriel-kaha
 ne/
SUMMARY:The Vail Series presents Gabriel Kahane
DESCRIPTION:The Vail Series presents Gabriel Kahane at 7 p.m. on Thursday\,
  Oct. 23\, in Swasey Chapel (200 Chapel Drive). Tickets are free for Denis
 on students\, faculty and staff. We share these experiences with our large
 r community by making a limited number of tickets available for public sal
 e on a first come\, first served basis for $20 each. Visit vailseries.org 
 for tickets and more information.\n\nHailed as “one of the finest songwr
 iters of the day” by The New Yorker\, Gabriel Kahane is a musician and s
 toryteller whose work spans the theater\, club\, and concert hall.\n\nIn a
 ddition\, he tours as a duo with fellow composer/performer Caroline Shaw i
 n the United States and Europe\, including performances at the Philharmoni
 e de Paris\, Wigmore Hall\, and the Concertgebouw. This season also witnes
 ses the premiere of a clarinet concerto for Anthony McGill\, a solo debut 
 with the Orchestre National de Lyon\, as well as Kahane’s San Francisco 
 conducting debut in Carla Kihlstedt’s “Twenty-six Little Deaths.”\n\
 nKahane maintains a diverse roster of collaborators from various corners o
 f the musical universe\, ranging from Phoebe Bridgers\, Paul Simon\, Sufja
 n Stevens\, and Sylvan Esso\, to the Danish String Quartet\, Roomful of Te
 eth\, and Attacca Quartet. As a writer\, he has been published by The New 
 Yorker online and The New York Times\; a newsletter and collection of essa
 ys on music\, literature\, and politics can be found at gabrielkahane.subs
 tack.com.\n\n–\nThe Vail Series was endowed in 1979 by a generous gift f
 rom the late Mary and Foster McGaw in honor of Jeanne Vail\, class of 1946
 . Just as it was intended to do\, the Series enriches the artistic experie
 nce of the entire Denison community. Programmed creatively with the mindfu
 l pursuit of learning across traditional academic boundaries\, more than 1
 00 individual Vail Series artists have found their way to Denison’s clas
 srooms and stages\, but that doesn’t include the dozens of ensembles or 
 full symphony orchestras that have played here over the years.
CATEGORIES:Entertainment
LOCATION:Swasey Chapel Denison Unversity\, 200 Chapel Drive\, Granville\, O
 H\, United States
GEO:40.071116;-82.52164
X-APPLE-STRUCTURED-LOCATION;VALUE=URI;X-ADDRESS=200 Chapel Drive\, Granvill
 e\, OH\, United States;X-APPLE-RADIUS=100;X-TITLE=Swasey Chapel Denison Un
 versity:geo:40.071116,-82.52164
END:VEVENT
BEGIN:VTIMEZONE
TZID:America/New_York
X-LIC-LOCATION:America/New_York
BEGIN:DAYLIGHT
DTSTART:20250309T030000
TZOFFSETFROM:-0500
TZOFFSETTO:-0400
TZNAME:EDT
END:DAYLIGHT
END:VTIMEZONE
END:VCALENDAR