BEGIN:VCALENDAR
VERSION:2.0
PRODID:-//wp-events-plugin.com//7.2.3.1//EN
TZID:America/New_York
X-WR-TIMEZONE:America/New_York
BEGIN:VEVENT
UID:3995@lickingevents.com
DTSTART;TZID=America/New_York:20260421T190000
DTEND;TZID=America/New_York:20260421T203000
DTSTAMP:20260311T205328Z
URL:https://lickingevents.com/events/student-composers-concert-with-third-
 coast-percussion/
SUMMARY:Student Composers concert with Third Coast Percussion
DESCRIPTION:The Department of Music presents an evening of newly composed s
 olo\, chamber and electronic works by student composers. Third Coast Percu
 ssion will perform alongside the students and will also present two of the
 ir own short compositions.\n\nTickets are not required for this event.
CATEGORIES:Entertainment
LOCATION:Burke Recital Hall in Eisner Center and Denison University\, 240 W
  Broadway\, Granville\, Ohio\, 43023\, United States
GEO:40.069083;-82.523192
X-APPLE-STRUCTURED-LOCATION;VALUE=URI;X-ADDRESS=240 W Broadway\, Granville\
 , Ohio\, 43023\, United States;X-APPLE-RADIUS=100;X-TITLE=Burke Recital Ha
 ll in Eisner Center and Denison University:geo:40.069083,-82.523192
END:VEVENT
BEGIN:VTIMEZONE
TZID:America/New_York
X-LIC-LOCATION:America/New_York
BEGIN:DAYLIGHT
DTSTART:20260308T030000
TZOFFSETFROM:-0500
TZOFFSETTO:-0400
TZNAME:EDT
END:DAYLIGHT
END:VTIMEZONE
END:VCALENDAR