BEGIN:VCALENDAR
VERSION:2.0
PRODID:-//wp-events-plugin.com//7.2.3.1//EN
TZID:America/New_York
X-WR-TIMEZONE:America/New_York
BEGIN:VEVENT
UID:2735@lickingevents.com
DTSTART;TZID=America/New_York:20241214T180000
DTEND;TZID=America/New_York:20241214T234500
DTSTAMP:20241106T185635Z
URL:https://lickingevents.com/events/santa-con-newark-ohio/
SUMMARY:Santa Con Newark Ohio
DESCRIPTION:This is the 4th Annual Santa Con Newark. Join us with your Sant
 a gear or Elf or Grinch or whatever you got that is in the Christmas spiri
 t. (You never know\, cousin Eddie might show up again!)\nWe had over 40 fo
 lks last year and it is getting bigger. We will be in downtown Newark and 
 hitting all the local pubs and wineries.\nDecember 14\, 6:00 PM to wheneve
 r you get kicked out of the pubs!! The tentative itinerary will be:\nTo St
 art:\n6:00 PM Moe's BBQ and SBC\n8:00 PM &lt\;&gt\;&gt\; at the West side 
 of the square (That's the side that the bike shop faces)\n8:15 PM Buckeye 
 Winery\n9:00 PM Elliot's\n9:45 PM Draft House\n10:30 PM Tap That Glass\nDo
 n't Drink and Drive...Call or text Penny Uber for a ride to and from the e
 vent. Her number is 740-323-1777. She will be standing by. Also we have Ga
 ry Morgan at 740-334-3933. Be Safe!!\n\nhttps://www.facebook.com/share/15a
 FgtEcEZ/
CATEGORIES:Festivals and Outdoor Events
LOCATION:Downtown Newark\, Park Place\, Newark\, United States
GEO:40.740459;-74.168455
X-APPLE-STRUCTURED-LOCATION;VALUE=URI;X-ADDRESS=Park Place\, Newark\, Unite
 d States;X-APPLE-RADIUS=100;X-TITLE=Downtown Newark:geo:40.740459,-74.1684
 55
END:VEVENT
BEGIN:VTIMEZONE
TZID:America/New_York
X-LIC-LOCATION:America/New_York
BEGIN:STANDARD
DTSTART:20241103T010000
TZOFFSETFROM:-0400
TZOFFSETTO:-0500
TZNAME:EST
END:STANDARD
END:VTIMEZONE
END:VCALENDAR