BEGIN:VCALENDAR
VERSION:2.0
PRODID:-//wp-events-plugin.com//7.2.3.1//EN
TZID:America/New_York
X-WR-TIMEZONE:America/New_York
BEGIN:VEVENT
UID:3247@lickingevents.com
DTSTART;TZID=America/New_York:20250628T100000
DTEND;TZID=America/New_York:20250628T150000
DTSTAMP:20250603T152615Z
URL:https://lickingevents.com/events/ohio-erie-canal-bicentennial-celebrat
 ion/
SUMMARY:Ohio &amp\; Erie Canal Bicentennial Celebration
DESCRIPTION:Join us in celebrating the 200th anniversary of the Ohio &amp\;
  Erie Canal\, which ran through downtown Newark. This fun\, family-friendl
 y event is free and open to the public. There is free parking in several n
 earby lots.\nOur keynote speaker will be Ohio Governor\, Mike DeWine.\nOth
 er speakers include Newark Mayor Jeff Hall\, Heath Mayor Mark Johns\, and 
 County Commissioner Tim Bubb.\nEnjoy historical exhibits\, kids activities
 \, musical performances\, costumed reenactors\, storytelling\, vendors\, a
 nd a canal boat contest.\nBring your lawn chairs and enjoy Newark's beauti
 ful Canal Market District.\nFor more information\, contact Howard Long\, E
 xecutive Director\, Licking County Historical Society\, at info@lchsohio.o
 rg\, or phone 740-345-4898.
CATEGORIES:Charity and Educational Events,Entertainment,Everything
 (only),Festivals and Outdoor Events,Live Music
LOCATION:Canal Market District\, Newark\, Ohio\, 36 East Canal Street\, New
 ark\, OH\, 43055\, United States
GEO:40.05659;-82.401065
X-APPLE-STRUCTURED-LOCATION;VALUE=URI;X-ADDRESS=36 East Canal Street\, Newa
 rk\, OH\, 43055\, United States;X-APPLE-RADIUS=100;X-TITLE=Canal Market Di
 strict\, Newark\, Ohio:geo:40.05659,-82.401065
END:VEVENT
BEGIN:VTIMEZONE
TZID:America/New_York
X-LIC-LOCATION:America/New_York
BEGIN:DAYLIGHT
DTSTART:20250309T030000
TZOFFSETFROM:-0500
TZOFFSETTO:-0400
TZNAME:EDT
END:DAYLIGHT
END:VTIMEZONE
END:VCALENDAR