BEGIN:VCALENDAR
VERSION:2.0
PRODID:-//wp-events-plugin.com//7.2.3.1//EN
TZID:America/New_York
X-WR-TIMEZONE:America/New_York
BEGIN:VEVENT
UID:2378@lickingevents.com
DTSTART;TZID=America/New_York:20240717T163000
DTEND;TZID=America/New_York:20240717T183000
DTSTAMP:20240606T191124Z
URL:https://lickingevents.com/events/newark-maennerchor-beef-chicken-and-n
 oodle-dinner/
SUMMARY:Newark Maennerchor beef/chicken and noodle dinner
DESCRIPTION:Walt's famous homemade noodles with beef or chicken\, eat in or
  drive thru. includes your choice beef or chicken with noodles\, mashed po
 tatoes\, coleslaw and roll\, still on $10\;00 cash.
CATEGORIES:Everything (only)
LOCATION:Newark Männerchor\, 195 W. Orchard Street  \, Newark\, OH\, 43055
 \, United States
GEO:40.041398;-82.411554
X-APPLE-STRUCTURED-LOCATION;VALUE=URI;X-ADDRESS=195 W. Orchard Street  \, N
 ewark\, OH\, 43055\, United States;X-APPLE-RADIUS=100;X-TITLE=Newark Männ
 erchor:geo:40.041398,-82.411554
END:VEVENT
BEGIN:VTIMEZONE
TZID:America/New_York
X-LIC-LOCATION:America/New_York
BEGIN:DAYLIGHT
DTSTART:20240310T030000
TZOFFSETFROM:-0500
TZOFFSETTO:-0400
TZNAME:EDT
END:DAYLIGHT
END:VTIMEZONE
END:VCALENDAR