BEGIN:VCALENDAR
VERSION:2.0
PRODID:-//wp-events-plugin.com//7.2.3.1//EN
TZID:America/New_York
X-WR-TIMEZONE:America/New_York
BEGIN:VEVENT
UID:2960@lickingevents.com
DTSTART;TZID=America/New_York:20250312T190000
DTEND;TZID=America/New_York:20250312T203000
DTSTAMP:20250219T204718Z
URL:https://lickingevents.com/events/musician-minus-instrument/
SUMMARY:'Musician Minus Instrument'
DESCRIPTION:What does a musician become without their instrument? Can they 
 use their skills in other ways\, and still make music? What are the bounda
 ries of what we can all agree is an “instrument”? What does musical vi
 rtuosity become if we don’t have 88 keys\, 4 strings\, and a bow\, or an
  embouchure through which to experience it?\n\nLiving up to their name\, C
 hicago-based collective ensemble Beyond This Point explores these question
 s in a concert that both breaks and expands what it means to be a musician
  and a performer. The musicians’ “instruments” run the gamut from a 
 loose jack cable to an IKEA desk lamp to their own bodies and voices. Each
  work is suffused with musical virtuosity\, but that virtuosity is brought
  to bear on an object or context that seems to resist being labeled as “
 musical”. Yet\, after passing through the eye of the needle\, the perfor
 mers and audience alike emerge on the other side having glimpsed at a poss
 ible future where musical expression is no longer constrained to the world
  of instruments.\n\nFree and open to the public. Tickets are not required.
CATEGORIES:Entertainment
LOCATION:Hylbert Family Studio of the Michael D. Eisner Center for the Perf
 orming Arts\, 240 West Broadway\, Granville\, OH\, United States
GEO:40.069083;-82.523192
X-APPLE-STRUCTURED-LOCATION;VALUE=URI;X-ADDRESS=240 West Broadway\, Granvil
 le\, OH\, United States;X-APPLE-RADIUS=100;X-TITLE=Hylbert Family Studio o
 f the Michael D. Eisner Center for the Performing Arts:geo:40.069083,-82.5
 23192
END:VEVENT
BEGIN:VTIMEZONE
TZID:America/New_York
X-LIC-LOCATION:America/New_York
BEGIN:DAYLIGHT
DTSTART:20250309T030000
TZOFFSETFROM:-0500
TZOFFSETTO:-0400
TZNAME:EDT
END:DAYLIGHT
END:VTIMEZONE
END:VCALENDAR