BEGIN:VCALENDAR
VERSION:2.0
PRODID:-//wp-events-plugin.com//7.2.3.1//EN
TZID:America/New_York
X-WR-TIMEZONE:America/New_York
BEGIN:VEVENT
UID:4113@lickingevents.com
DTSTART;TZID=America/New_York:20260509T083000
DTEND;TZID=America/New_York:20260509T150000
DTSTAMP:20260330T122755Z
URL:https://lickingevents.com/events/licking-county-master-gardeners-plant
 -sale/
SUMMARY:Licking County Master Gardeners Plant Sale
DESCRIPTION:Tons of plants grown by Master\nGardeners at great prices! Popu
 lar varieties of tomatoes\, peppers\, herbs\, houseplants and many many na
 tive plants\, some rare species included.\nLive gardening demos! Crafts an
 d vintage lawn &amp\; garden items in our sale tent! Free coffee for early
  birds!\nNinnies Italian Food Truck and more!
CATEGORIES:Festivals and Outdoor Events
LOCATION:OSU Extension\, 771 E. Main St.\, Newark\, OHIO\, 43055\, United S
 tates
GEO:40.059165;-82.370721
X-APPLE-STRUCTURED-LOCATION;VALUE=URI;X-ADDRESS=771 E. Main St.\, Newark\, 
 OHIO\, 43055\, United States;X-APPLE-RADIUS=100;X-TITLE=OSU Extension:geo:
 40.059165,-82.370721
END:VEVENT
BEGIN:VTIMEZONE
TZID:America/New_York
X-LIC-LOCATION:America/New_York
BEGIN:DAYLIGHT
DTSTART:20260308T030000
TZOFFSETFROM:-0500
TZOFFSETTO:-0400
TZNAME:EDT
END:DAYLIGHT
END:VTIMEZONE
END:VCALENDAR