BEGIN:VCALENDAR
VERSION:2.0
PRODID:-//wp-events-plugin.com//7.2.3.1//EN
TZID:America/New_York
X-WR-TIMEZONE:America/New_York
BEGIN:VEVENT
UID:3969@lickingevents.com
DTSTART;TZID=America/New_York:20260509T083000
DTEND;TZID=America/New_York:20260509T150000
DTSTAMP:20260309T145659Z
URL:https://lickingevents.com/events/licking-county-master-gardener-volunt
 eer-plant-sale-2/
SUMMARY:Licking County Master Gardener Volunteer:  Plant Sale
DESCRIPTION:Get ready\, plant lovers!\nOur annual Plant Sale is back — an
 d bigger than ever — held in conjunction with Soil &amp\; Water’s Back
 yard Conservation Day!\nNew this year:\n• Live demonstrations\n• Free 
 early‑bird coffee bar\n• Crafts &amp\; Vintage Garden Tent\n• New to
 mato &amp\; pepper varieties\nPlus:\n• Hundreds of natives &amp\; herbs\
 n• Annuals\, houseplants &amp\; more\n• All at unbeatable prices\nMay 
 9\, 2026\n8:30 a.m. – 3 p.m.\nOSU Extension\, 771 E. Main St.\, Newark\n
 All plants grown with care by the Licking County Master Gardener Volunteer
 s.\nFollow us on Facebook for updates!
CATEGORIES:Everything (only)
LOCATION:OSU Extension\, 771 E. Main St.\, Newark\, OHIO\, 43055\, United S
 tates
GEO:40.059165;-82.370721
X-APPLE-STRUCTURED-LOCATION;VALUE=URI;X-ADDRESS=771 E. Main St.\, Newark\, 
 OHIO\, 43055\, United States;X-APPLE-RADIUS=100;X-TITLE=OSU Extension:geo:
 40.059165,-82.370721
END:VEVENT
BEGIN:VTIMEZONE
TZID:America/New_York
X-LIC-LOCATION:America/New_York
BEGIN:DAYLIGHT
DTSTART:20260308T030000
TZOFFSETFROM:-0500
TZOFFSETTO:-0400
TZNAME:EDT
END:DAYLIGHT
END:VTIMEZONE
END:VCALENDAR