BEGIN:VCALENDAR
VERSION:2.0
PRODID:-//wp-events-plugin.com//7.2.3.1//EN
TZID:America/New_York
X-WR-TIMEZONE:America/New_York
BEGIN:VEVENT
UID:2451@lickingevents.com
DTSTART;TZID=America/New_York:20240718T110000
DTEND;TZID=America/New_York:20240718T150000
DTSTAMP:20240709T155722Z
URL:https://lickingevents.com/events/licking-county-fresh-start-free-legal
 -clinic/
SUMMARY:Licking County “Fresh Start” Free Legal Clinic
DESCRIPTION:PRESS RELEASE\n\nLicking County “Fresh Start” Free Legal Cl
 inic\n\nLegal Aid of Southeast and Central Ohio (formerly Southeastern Ohi
 o Legal Services/ SEOLS) is offering a free “Fresh Start” legal clinic
  to help people with past criminal records seal or expunge their records.\
 n\nMany Ohioans with past criminal records were previously ineligible for 
 record sealing or expungement. Thanks to a law passed in 2023\, some of th
 ese people may now be eligible.\n\nLawyers will be available at the clinic
  to screen individuals for eligibility for sealing or expunging their reco
 rd and to help applicants with the paperwork.\n\nThe clinic will take plac
 e on Thursday\, July 18\, 2024\, from 11 a.m. to 3 p.m. at Licking County 
 Aging Partners 1058 E. Main St.\, Newark\, Ohio 43055. Walk-ins are welcom
 e\, but pre-registration is encouraged. People can pre-register online or 
 by calling 614-827-0524. Clients will be helped first come\, first served\
 , except for pre-registered clients with appointments. We will accept walk
 -ins if possible until 2 p.m.\n\nThis free clinic is available to those wh
 o meet eligibility and income requirements (generally less than 200% of th
 e federal poverty guideline).\n\nPlease note\, records cannot be sealed fo
 r those who are currently on probation\, community control\, or have an op
 en case. OVIs and traffic cases are not eligible to be sealed or expunged.
 \n\nFor additional information\, please contact Legal Aid of Southeast and
  Central Ohio (LASCO)\, at 740-345-2064 or 1-800-686-3669. LASCO is a nonp
 rofit law firm that serves lower-income people in 36 counties in Ohio.\n\n
 ******************************\n\nFor information about this press release
 \, please contact Melissa Dutton at 614-737-0144 or by email at mdutton@la
 sco.org.\nWe would really like some coverage about this FREE service avail
 able to folks in our area. We know there are many out there who could bene
 fit from this service. If possible\, please add this to your monthly calen
 dar so everyone can see and/or hear about it.
CATEGORIES:Charity and Educational Events
LOCATION:Licking County Aging Partners 1058 E. Main St.\, 1058 E. Main St\,
  Newark\, OH\, 432055\, United States
GEO:40.062113;-82.362311
X-APPLE-STRUCTURED-LOCATION;VALUE=URI;X-ADDRESS=1058 E. Main St\, Newark\, 
 OH\, 432055\, United States;X-APPLE-RADIUS=100;X-TITLE=Licking County Agin
 g Partners 1058 E. Main St.:geo:40.062113,-82.362311
END:VEVENT
BEGIN:VTIMEZONE
TZID:America/New_York
X-LIC-LOCATION:America/New_York
BEGIN:DAYLIGHT
DTSTART:20240310T030000
TZOFFSETFROM:-0500
TZOFFSETTO:-0400
TZNAME:EDT
END:DAYLIGHT
END:VTIMEZONE
END:VCALENDAR