BEGIN:VCALENDAR
VERSION:2.0
PRODID:-//wp-events-plugin.com//7.2.3.1//EN
TZID:America/New_York
X-WR-TIMEZONE:America/New_York
BEGIN:VEVENT
UID:2556@lickingevents.com
DTSTART;TZID=America/New_York:20240927T120000
DTEND;TZID=America/New_York:20240927T130000
DTSTAMP:20240826T121945Z
URL:https://lickingevents.com/events/licking-county-aging-partners-y-on-th
 e-fly-3/
SUMMARY:Licking County Aging Partners &amp\; Y on the Fly
DESCRIPTION:Licking County Aging Partners &amp\; Y on the Fly: Licking Coun
 ty Aging Partners is partnering with Buckeye Valley YMCA’s ‘Y on the F
 ly’ to bring fitness and food to our 60+ residents throughout Licking Co
 unty this summer! LCAP will provide the lunch and Y on the Fly will provid
 e a fitness activity. Please call 740-345-0821 Ext. 1218 to reserve a meal
  or call the library. Mark your calendar and plan to join us at the librar
 y for food\, fun and fitness.
CATEGORIES:Everything (only)
LOCATION:Homer Public Library\, 385 South Street\, NW P.O. Box 427\, Utica\
 , OH\, 43080\, United States
GEO:38.914221;-77.017164
X-APPLE-STRUCTURED-LOCATION;VALUE=URI;X-ADDRESS=385 South Street\, NW P.O. 
 Box 427\, Utica\, OH\, 43080\, United States;X-APPLE-RADIUS=100;X-TITLE=Ho
 mer Public Library:geo:38.914221,-77.017164
END:VEVENT
BEGIN:VTIMEZONE
TZID:America/New_York
X-LIC-LOCATION:America/New_York
BEGIN:DAYLIGHT
DTSTART:20240310T030000
TZOFFSETFROM:-0500
TZOFFSETTO:-0400
TZNAME:EDT
END:DAYLIGHT
END:VTIMEZONE
END:VCALENDAR