BEGIN:VCALENDAR
VERSION:2.0
PRODID:-//wp-events-plugin.com//7.2.3.1//EN
TZID:America/New_York
X-WR-TIMEZONE:America/New_York
BEGIN:VEVENT
UID:4117@lickingevents.com
DTSTART;TZID=America/New_York:20260424T163000
DTEND;TZID=America/New_York:20260424T183000
DTSTAMP:20260330T202037Z
URL:https://lickingevents.com/events/it-was-never-just-then/
SUMMARY:'It Was Never Just Then'
DESCRIPTION:The Visual Arts Program presents an opening reception for a Fin
 al Senior Art Show: “It Was Never Just Then.”\n\nA wide range of work 
 will be presented in the exhibition\, including painting\, fiber and texti
 le work\, installation\, printmaking\, and digital media. Drawing from per
 sonal experience\, cultural heritage\, memory\, identity\, and the spaces 
 we inhabit\, the artists explore themes such as home and domestic life\, f
 olklore and tradition\, community and belonging\, perception and psycholog
 y\, and imagined or constructed worlds.\n\nThe Senior Visual Arts Exhibiti
 on celebrates the culminating work of graduating majors\, showcasing a div
 erse range of projects developed over the course of their time in the Visu
 al Arts program. This exhibition highlights each student’s unique voice\
 , creative inquiry\, and technical growth across disciplines.\n\nJoin us f
 or the opening reception on Friday\, April 24 from 4:30 p.m. to 6 p.m. at 
 the Denison Museum of Art\, and experience this exciting moment of transit
 ion as these emerging artists present their work to the public. The exhibi
 tion will remain on view through May 15.
CATEGORIES:Entertainment
LOCATION:Denison Museum\, 240 West Broadway\, Granville\, OH\, 43023\, Unit
 ed States
GEO:40.069083;-82.523192
X-APPLE-STRUCTURED-LOCATION;VALUE=URI;X-ADDRESS=240 West Broadway\, Granvil
 le\, OH\, 43023\, United States;X-APPLE-RADIUS=100;X-TITLE=Denison Museum:
 geo:40.069083,-82.523192
END:VEVENT
BEGIN:VTIMEZONE
TZID:America/New_York
X-LIC-LOCATION:America/New_York
BEGIN:DAYLIGHT
DTSTART:20260308T030000
TZOFFSETFROM:-0500
TZOFFSETTO:-0400
TZNAME:EDT
END:DAYLIGHT
END:VTIMEZONE
END:VCALENDAR