BEGIN:VCALENDAR
VERSION:2.0
PRODID:-//wp-events-plugin.com//7.2.3.1//EN
TZID:America/New_York
X-WR-TIMEZONE:America/New_York
BEGIN:VEVENT
UID:2789@lickingevents.com
DTSTART;TZID=America/New_York:20241221T133000
DTEND;TZID=America/New_York:20241221T153000
DTSTAMP:20241125T221048Z
URL:https://lickingevents.com/events/holiday-centerpiece-3/
SUMMARY:Holiday Centerpiece
DESCRIPTION:Our popular program is back for another year !Come and get crea
 tive with the Licking Park District. We will be using natural objects foun
 d in the park as well as flowers to make a Holiday Floral Centerpiece! Par
 ticipants will have supplies including flowers\, plastic centerpiece holde
 r\, greens\, and pinecones. Participants can also bring their own containe
 rs. Watch the demonstration to learn some techniques ranging from modern t
 o traditional\, than make the centerpiece your own! Creativity is encourag
 ed. Fee: $25. Register by Dec. 10. Location: James Bradley Center\, Infirm
 ary Mound Park
CATEGORIES:Everything (only)
LOCATION:Infirmary Mound Park\, 4351 Lancaster Rd\, Granville\, United Stat
 es
GEO:40.025679;-82.52353
X-APPLE-STRUCTURED-LOCATION;VALUE=URI;X-ADDRESS=4351 Lancaster Rd\, Granvil
 le\, United States;X-APPLE-RADIUS=100;X-TITLE=Infirmary Mound Park:geo:40.
 025679,-82.52353
END:VEVENT
BEGIN:VTIMEZONE
TZID:America/New_York
X-LIC-LOCATION:America/New_York
BEGIN:STANDARD
DTSTART:20241103T010000
TZOFFSETFROM:-0400
TZOFFSETTO:-0500
TZNAME:EST
END:STANDARD
END:VTIMEZONE
END:VCALENDAR