BEGIN:VCALENDAR
VERSION:2.0
PRODID:-//wp-events-plugin.com//7.2.3.1//EN
TZID:America/New_York
X-WR-TIMEZONE:America/New_York
BEGIN:VEVENT
UID:2877@lickingevents.com
DTSTART;TZID=America/New_York:20250125T160000
DTEND;TZID=America/New_York:20250125T183000
DTSTAMP:20250116T221043Z
URL:https://lickingevents.com/events/historic-hudson-community-association
 s-chicken-noodle-dinner-and-auction-2/
SUMMARY:Historic Hudson Community Association's Chicken Noodle Dinner and A
 uction
DESCRIPTION:Come join us for Walt Hinger's World Famous Chicken Noodle Dinn
 er (full meal and drink) and enjoy the opportunity to bid on over 100 item
 s donated by local businesses in a live auction\, silent auction\, raffle 
 and a 50/50 drawing. You will be well fed\, entertained (trivia for prizes
 )\, and you are likely to walk away with a bargain! USW Hall 350 Hudson Av
 e Newark\, OH 4 - 6:30 PM Saturday January 25.
CATEGORIES:Charity and Educational Events
LOCATION:USW Hall\, 350 Hudson Ave\, Newark\, OH\, 43055\, United States
GEO:40.068049;-82.407087
X-APPLE-STRUCTURED-LOCATION;VALUE=URI;X-ADDRESS=350 Hudson Ave\, Newark\, O
 H\, 43055\, United States;X-APPLE-RADIUS=100;X-TITLE=USW Hall:geo:40.06804
 9,-82.407087
END:VEVENT
BEGIN:VTIMEZONE
TZID:America/New_York
X-LIC-LOCATION:America/New_York
BEGIN:STANDARD
DTSTART:20241103T010000
TZOFFSETFROM:-0400
TZOFFSETTO:-0500
TZNAME:EST
END:STANDARD
END:VTIMEZONE
END:VCALENDAR