BEGIN:VCALENDAR
VERSION:2.0
PRODID:-//wp-events-plugin.com//7.2.3.1//EN
TZID:America/New_York
X-WR-TIMEZONE:America/New_York
BEGIN:VEVENT
UID:4179@lickingevents.com
DTSTART;TZID=America/New_York:20260507T180000
DTEND;TZID=America/New_York:20260507T190000
DTSTAMP:20260424T144128Z
URL:https://lickingevents.com/events/heath-moundbuilders-kiwanis-10/
SUMMARY:Heath Moundbuilders Kiwanis
DESCRIPTION:Regular meeting. come and join us and see how we support our co
 mmunity. We will have a guest speaker\, Destiny Bockhold from Huntington B
 ank. She will be speaking on teen banking and caregiver banking support fo
 r those with disabilities.
CATEGORIES:Everything (only)
LOCATION:Park Lanes Bowling Center\, 701 Hopewell Drive\, Heath\, Ohio\, 43
 056\, United States
GEO:40.033813;-82.42068
X-APPLE-STRUCTURED-LOCATION;VALUE=URI;X-ADDRESS=701 Hopewell Drive\, Heath\
 , Ohio\, 43056\, United States;X-APPLE-RADIUS=100;X-TITLE=Park Lanes Bowli
 ng Center:geo:40.033813,-82.42068
END:VEVENT
BEGIN:VTIMEZONE
TZID:America/New_York
X-LIC-LOCATION:America/New_York
BEGIN:DAYLIGHT
DTSTART:20260308T030000
TZOFFSETFROM:-0500
TZOFFSETTO:-0400
TZNAME:EDT
END:DAYLIGHT
END:VTIMEZONE
END:VCALENDAR