BEGIN:VCALENDAR
VERSION:2.0
PRODID:-//wp-events-plugin.com//7.2.3.1//EN
TZID:America/New_York
X-WR-TIMEZONE:America/New_York
BEGIN:VEVENT
UID:2475@lickingevents.com
DTSTART;TZID=America/New_York:20240804T110000
DTEND;TZID=America/New_York:20240809T160000
DTSTAMP:20240718T145949Z
URL:https://lickingevents.com/events/hartford-fair-natural-resources-area/
SUMMARY:Hartford Fair Natural Resources Area
DESCRIPTION:It’s that time of year again! Join us at the 4-acre Hartford 
 Fair Natural Resources Area (HFNRA) for all the programs that you know and
  love! Visit Licking County conservation agencies at the Hartford Fair Nat
 ural Resource Area pavilion from 11am – 4pm Sunday through Friday. The L
 icking Park District will have a table at the pavilion each day.\n\nProgra
 ms featuring live animals\, outdoor topics\, and crafts will be offered ev
 ery day.\n\nThe Licking Park District will be offering paddling and archer
 y Try-its on Monday\, and Tuesday from Noon to 3PM\, and Thursday from 3:3
 0pm – 6:30PM.\n\nFollow the HFNRA Facebook page for more information.
CATEGORIES:Festivals and Outdoor Events
LOCATION:Hartford Fair Natural Resources Area\, 14028 Fairgrounds Rd\, Crot
 on\, United States
GEO:37.09024;-95.712891
X-APPLE-STRUCTURED-LOCATION;VALUE=URI;X-ADDRESS=14028 Fairgrounds Rd\, Crot
 on\, United States;X-APPLE-RADIUS=100;X-TITLE=Hartford Fair Natural Resour
 ces Area:geo:37.09024,-95.712891
END:VEVENT
BEGIN:VTIMEZONE
TZID:America/New_York
X-LIC-LOCATION:America/New_York
BEGIN:DAYLIGHT
DTSTART:20240310T030000
TZOFFSETFROM:-0500
TZOFFSETTO:-0400
TZNAME:EDT
END:DAYLIGHT
END:VTIMEZONE
END:VCALENDAR