BEGIN:VCALENDAR
VERSION:2.0
PRODID:-//wp-events-plugin.com//7.2.3.1//EN
TZID:America/New_York
X-WR-TIMEZONE:America/New_York
BEGIN:VEVENT
UID:3975@lickingevents.com
DTSTART;TZID=America/New_York:20260620T080000
DTEND;TZID=America/New_York:20260620T120000
DTSTAMP:20260310T115541Z
URL:https://lickingevents.com/events/glass-flea-market-3/
SUMMARY:Glass Flea Market
DESCRIPTION:Stroll Newark’s Canal Market District and shop the popular Gl
 ass Flea Market to pick up some beautiful\, handmade table glass at bargai
 n prices. Try your hand at the Coin Toss – if your dime lands in a piece
  of Heisey glass\, it’s yours to keep. Community members with glassware 
 to sell are invited to bring a table and set up shop. There is no fee to p
 articipate and no registration is necessary. For more information call the
  museum at 740-345-2932. This free event is sponsored by Heisey Collectors
  of America\, which owns and operates the National Heisey Glass Museum in 
 Newark.
CATEGORIES:Everything (only)
LOCATION:Canal Market District\, 28 East Canal St.\, Newark\, Ohio\, 43055\
 , United States
GEO:40.056681;-82.400749
X-APPLE-STRUCTURED-LOCATION;VALUE=URI;X-ADDRESS=28 East Canal St.\, Newark\
 , Ohio\, 43055\, United States;X-APPLE-RADIUS=100;X-TITLE=Canal Market Dis
 trict:geo:40.056681,-82.400749
END:VEVENT
BEGIN:VTIMEZONE
TZID:America/New_York
X-LIC-LOCATION:America/New_York
BEGIN:DAYLIGHT
DTSTART:20260308T030000
TZOFFSETFROM:-0500
TZOFFSETTO:-0400
TZNAME:EDT
END:DAYLIGHT
END:VTIMEZONE
END:VCALENDAR