BEGIN:VCALENDAR
VERSION:2.0
PRODID:-//wp-events-plugin.com//7.2.3.1//EN
TZID:America/New_York
X-WR-TIMEZONE:America/New_York
BEGIN:VEVENT
UID:3033@lickingevents.com
DTSTART;TZID=America/New_York:20250426T103000
DTEND;TZID=America/New_York:20250426T140000
DTSTAMP:20250306T132904Z
URL:https://lickingevents.com/events/gears-for-growth-car-show-fundraiser-
 for-ncs-digital/
SUMMARY:Gears for Growth: Car Show Fundraiser for NCS Digital
DESCRIPTION:Hey all you motor heads! NCS Digital is hosting their first ann
 ual Gears for Growth Car Show on Saturday\, April 26th from 10:30am to 2:0
 0pm in the Former State Farm Building... 1440 Granville Road in Newark\, O
 H. There will be raffles\, 50/50\, live music\, food trucks\, prizes and m
 ore! Enter your vehicle of choice for $10 or come join in the fun! Proceed
 s will benefit NCS Digital's students. We'll see you there!
CATEGORIES:Charity and Educational Events,Everything (only)
LOCATION:Former State Farm Building\, 1440 Granville Rd\, Newark\, Ohio\, 4
 3055\, United States
GEO:40.059758;-82.454467
X-APPLE-STRUCTURED-LOCATION;VALUE=URI;X-ADDRESS=1440 Granville Rd\, Newark\
 , Ohio\, 43055\, United States;X-APPLE-RADIUS=100;X-TITLE=Former State Far
 m Building:geo:40.059758,-82.454467
END:VEVENT
BEGIN:VTIMEZONE
TZID:America/New_York
X-LIC-LOCATION:America/New_York
BEGIN:DAYLIGHT
DTSTART:20250309T030000
TZOFFSETFROM:-0500
TZOFFSETTO:-0400
TZNAME:EDT
END:DAYLIGHT
END:VTIMEZONE
END:VCALENDAR