BEGIN:VCALENDAR
VERSION:2.0
PRODID:-//wp-events-plugin.com//7.2.3.1//EN
TZID:America/New_York
X-WR-TIMEZONE:America/New_York
BEGIN:VEVENT
UID:4126@lickingevents.com
DTSTART;TZID=America/New_York:20260421T183000
DTEND;TZID=America/New_York:20260421T200000
DTSTAMP:20260331T184135Z
URL:https://lickingevents.com/events/free-community-qa-night-for-seniors-t
 heir-families/
SUMMARY:FREE Community Q&A Night for Seniors and Their Families
DESCRIPTION:Who do you ask about filing for social security? Should you do 
 it now or wait? If you need to set up a trust? Will you have enough money 
 to retire? You could ask ChatGPT\, or you could ask your neighbor.\nWhy no
 t hear from a panel of FOUR financial advisors just down the street in Pat
 askala. Representatives from Patriot Assets\, Park National Bank\, Fifth T
 hird Securities and Hoovler Financial Services will be discussing estate p
 lanning and any questions that the audience and/or YOU bring up.\nAppetize
 rs and beverages will be provided.\nBring the spouse and/or the parents.
CATEGORIES:Charity and Educational Events
LOCATION:Pataskala Oaks Care Center\, 144 E Broad St\, Pataskala\, Oh\, 430
 62\, United States
GEO:40.004677;-82.671075
X-APPLE-STRUCTURED-LOCATION;VALUE=URI;X-ADDRESS=144 E Broad St\, Pataskala\
 , Oh\, 43062\, United States;X-APPLE-RADIUS=100;X-TITLE=Pataskala Oaks Car
 e Center:geo:40.004677,-82.671075
END:VEVENT
BEGIN:VTIMEZONE
TZID:America/New_York
X-LIC-LOCATION:America/New_York
BEGIN:DAYLIGHT
DTSTART:20260308T030000
TZOFFSETFROM:-0500
TZOFFSETTO:-0400
TZNAME:EDT
END:DAYLIGHT
END:VTIMEZONE
END:VCALENDAR