BEGIN:VCALENDAR
VERSION:2.0
PRODID:-//wp-events-plugin.com//7.2.3.1//EN
TZID:America/New_York
X-WR-TIMEZONE:America/New_York
BEGIN:VEVENT
UID:2363@lickingevents.com
DTSTART;TZID=America/New_York:20240720T080000
DTEND;TZID=America/New_York:20240720T110000
DTSTAMP:20240529T201104Z
URL:https://lickingevents.com/events/for-your-health-5k-run-walk-1-mile-fu
 n-walk/
SUMMARY:"For Your Health" 5K Run/Walk &amp\; 1-mile Fun Walk
DESCRIPTION:The 2024 “For Your Health” 5K Run/Walk &amp\; 1-mile Fun Wa
 lk will take place at The Dawes Arboretum on Saturday\, July 20. Participa
 nts may choose to run or walk the 5K course or enjoy the 1-mile Fun Walk. 
 The 5K begins at 8:00 a.m.\, and the walk starts thereafter.\n\nRegistrati
 on for runners and walkers with timing chips is $15\, if received by July 
 12 at 5:00 p.m.\,\nand $20 thereafter. There is no fee for the 1-mile Fun 
 Walk\, or for participants who are not timed\; however\, registration is r
 equired. Registrations received by July 12 are eligible for packet pick-up
  on Friday\, July 19\, from 3:00 to 6:00 p.m.\, in the Licking Memorial Ho
 spital (LMH) First Floor Conference Rooms. All others may pick up packets 
 at the event. Participants also may register on the morning of the race\, 
 between 7:00 and 7:45 a.m.\n\nRegistration for both courses may be complet
 ed by visiting\nracepenguin.com/events/foryourhealth/\n\nLicking Memorial 
 Health Systems exists to improve the health of the community. The objectiv
 e of the “For Your Health” 5K Run/Walk &amp\; 1-mile Fun Walk is to of
 fer a community event that encourages a healthy lifestyle for people of al
 l ages.\n\nThe 5K will run in the traditional direction\, and self-seeded 
 starting corrals based on estimated finish times will be available. Awards
  will be presented to the Top 3 Males and Females Overall\, and Top 3 Male
 s and Females in each age division. All participants who cross the finish 
 line will receive a participation medal. RacePenguin will be used for race
  results. For questions\, please contact the LMH Development Office at (22
 0) 564-4102.
CATEGORIES:Festivals and Outdoor Events
LOCATION:The Dawes Arboretum\, 7770 Jacksontown Road\, Newark\, OH\, 43056\
 , United States
GEO:39.980138;-82.4131
X-APPLE-STRUCTURED-LOCATION;VALUE=URI;X-ADDRESS=7770 Jacksontown Road\, New
 ark\, OH\, 43056\, United States;X-APPLE-RADIUS=100;X-TITLE=The Dawes Arbo
 retum:geo:39.980138,-82.4131
END:VEVENT
BEGIN:VTIMEZONE
TZID:America/New_York
X-LIC-LOCATION:America/New_York
BEGIN:DAYLIGHT
DTSTART:20240310T030000
TZOFFSETFROM:-0500
TZOFFSETTO:-0400
TZNAME:EDT
END:DAYLIGHT
END:VTIMEZONE
END:VCALENDAR