BEGIN:VCALENDAR
VERSION:2.0
PRODID:-//wp-events-plugin.com//7.2.3.1//EN
TZID:America/New_York
X-WR-TIMEZONE:America/New_York
BEGIN:VEVENT
UID:3911@lickingevents.com
DTSTART;TZID=America/New_York:20260618T000000
DTEND;TZID=America/New_York:20260620T000000
DTSTAMP:20260218T192725Z
URL:https://lickingevents.com/events/drag-race-ihra/
SUMMARY:Drag Race - IHRA
DESCRIPTION:Angry Farmer Products will be Drag Racing. Come out to watch th
 eir new 1955 Chevy Bel Air Pro Mod.
CATEGORIES:Festivals and Outdoor Events
LOCATION:National Trail Raceway\, 2650 National Rd SW\, Hebron\, OH\, Unite
 d States
GEO:39.958152;-82.546187
X-APPLE-STRUCTURED-LOCATION;VALUE=URI;X-ADDRESS=2650 National Rd SW\, Hebro
 n\, OH\, United States;X-APPLE-RADIUS=100;X-TITLE=National Trail Raceway:g
 eo:39.958152,-82.546187
END:VEVENT
BEGIN:VTIMEZONE
TZID:America/New_York
X-LIC-LOCATION:America/New_York
BEGIN:DAYLIGHT
DTSTART:20260308T030000
TZOFFSETFROM:-0500
TZOFFSETTO:-0400
TZNAME:EDT
END:DAYLIGHT
END:VTIMEZONE
END:VCALENDAR