BEGIN:VCALENDAR
VERSION:2.0
PRODID:-//wp-events-plugin.com//7.2.3.1//EN
TZID:America/New_York
X-WR-TIMEZONE:America/New_York
BEGIN:VEVENT
UID:4127@lickingevents.com
DTSTART;TZID=America/New_York:20260620T120000
DTEND;TZID=America/New_York:20260620T180000
DTSTAMP:20260401T205218Z
URL:https://lickingevents.com/events/dig-it-east-2/
SUMMARY:Dig It East
DESCRIPTION:Join us for the 6th annual Dig It East volleyball tournament! F
 rom live music and food to the unique Maker’s Market\, there is somethin
 g for everyone to enjoy whether they are on or off the court.\nParticipati
 ng teams go head-to-head in a friendly &amp\; fun bracket style tournament
  and compete for one thing – to make the biggest impact on the House.\n\
 nSimilarly to last year\, the event will be held at Newark Station and wil
 l have much more than just volleyball. There will be many other fun activi
 ties throughout the day such as vendors\, live music\, drinks\, food and m
 uch more!\n\n4 players on the court during play\, with up to two alternate
 s per team. Players can be a mix of guys and gals\, but one gal must be on
  the court at all times.\n\nTeams of four are $100\, register here: https:
 //rmhc-centralohio.org/events/dig-it-east/
CATEGORIES:Charity and Educational Events
LOCATION:Newark Station\, 325 West Main Street\, Newark\, Ohio/ Licking\, 4
 3055\, United States
GEO:40.054079;-82.4145
X-APPLE-STRUCTURED-LOCATION;VALUE=URI;X-ADDRESS=325 West Main Street\, Newa
 rk\, Ohio/ Licking\, 43055\, United States;X-APPLE-RADIUS=100;X-TITLE=Newa
 rk Station:geo:40.054079,-82.4145
END:VEVENT
BEGIN:VTIMEZONE
TZID:America/New_York
X-LIC-LOCATION:America/New_York
BEGIN:DAYLIGHT
DTSTART:20260308T030000
TZOFFSETFROM:-0500
TZOFFSETTO:-0400
TZNAME:EDT
END:DAYLIGHT
END:VTIMEZONE
END:VCALENDAR