BEGIN:VCALENDAR
VERSION:2.0
PRODID:-//wp-events-plugin.com//7.2.3.1//EN
TZID:America/New_York
X-WR-TIMEZONE:America/New_York
BEGIN:VEVENT
UID:2656@lickingevents.com
DTSTART;TZID=America/New_York:20241121T190000
DTEND;TZID=America/New_York:20241121T203000
DTSTAMP:20241003T181039Z
URL:https://lickingevents.com/events/composition-seminar-concert-featuring
 -third-coast-percussion/
SUMMARY:Composition Seminar concert featuring Third Coast Percussion
DESCRIPTION:The Department of Music presents a Composition Seminar concert 
 directed by Ching-chu Hu. The concert features works created by student co
 mposers that are performed by Third Coast Percussion\, an ensemble-in-resi
 dence at Denison.
CATEGORIES:Entertainment
LOCATION:Burke Recital Hall in Eisner Center and Denison University\, 240 W
  Broadway\, Granville\, Ohio\, 43023\, United States
GEO:40.069083;-82.523192
X-APPLE-STRUCTURED-LOCATION;VALUE=URI;X-ADDRESS=240 W Broadway\, Granville\
 , Ohio\, 43023\, United States;X-APPLE-RADIUS=100;X-TITLE=Burke Recital Ha
 ll in Eisner Center and Denison University:geo:40.069083,-82.523192
END:VEVENT
BEGIN:VTIMEZONE
TZID:America/New_York
X-LIC-LOCATION:America/New_York
BEGIN:STANDARD
DTSTART:20241103T010000
TZOFFSETFROM:-0400
TZOFFSETTO:-0500
TZNAME:EST
END:STANDARD
END:VTIMEZONE
END:VCALENDAR