BEGIN:VCALENDAR
VERSION:2.0
PRODID:-//wp-events-plugin.com//7.2.3.1//EN
TZID:America/New_York
X-WR-TIMEZONE:America/New_York
BEGIN:VEVENT
UID:3998@lickingevents.com
DTSTART;TZID=America/New_York:20260429T190000
DTEND;TZID=America/New_York:20260429T203000
DTSTAMP:20260311T205558Z
URL:https://lickingevents.com/events/chamber-music-ensembles-concert-4/
SUMMARY:Chamber Music Ensembles concert
DESCRIPTION:The Department of Music presents student chamber music ensemble
 s in concert.\n\nThis event does not require tickets.
CATEGORIES:Entertainment
LOCATION:Burke Recital Hall in Eisner Center and Denison University\, 240 W
  Broadway\, Granville\, Ohio\, 43023\, United States
GEO:40.069083;-82.523192
X-APPLE-STRUCTURED-LOCATION;VALUE=URI;X-ADDRESS=240 W Broadway\, Granville\
 , Ohio\, 43023\, United States;X-APPLE-RADIUS=100;X-TITLE=Burke Recital Ha
 ll in Eisner Center and Denison University:geo:40.069083,-82.523192
END:VEVENT
BEGIN:VTIMEZONE
TZID:America/New_York
X-LIC-LOCATION:America/New_York
BEGIN:DAYLIGHT
DTSTART:20260308T030000
TZOFFSETFROM:-0500
TZOFFSETTO:-0400
TZNAME:EDT
END:DAYLIGHT
END:VTIMEZONE
END:VCALENDAR