BEGIN:VCALENDAR
VERSION:2.0
PRODID:-//wp-events-plugin.com//7.2.3.1//EN
TZID:America/New_York
X-WR-TIMEZONE:America/New_York
BEGIN:VEVENT
UID:2804@lickingevents.com
DTSTART;TZID=America/New_York:20250503T080000
DTEND;TZID=America/New_York:20250503T120000
DTSTAMP:20241211T210107Z
URL:https://lickingevents.com/events/buckeye-valley-family-ymca-car-show/
SUMMARY:Buckeye Valley Family YMCA Car Show
DESCRIPTION:Buckeye Valley Family YMCA- Car Show\nSaturday May 3\, 2025\n8A
 M- 12PM\nREGISTRATION 7- 11AM\nEAST PARKING LOT\n50/50 Raffle &amp\; Desse
 rt by the Y Seniors\nFood Trucks and Music\n50 Goodie Bags and Prize Drawi
 ngs\nFOR MORE NFORMATION\nContact Constance Cunningham\nconstance.cunningh
 am@bvfymca.org or\n740.349.9675
CATEGORIES:Charity and Educational Events,Festivals and Outdoor Events
LOCATION:Licking County Family YMCA\, 470 W. Church Street\, Newark\, Ohio\
 , 43055\, United States
GEO:40.05805;-82.421611
X-APPLE-STRUCTURED-LOCATION;VALUE=URI;X-ADDRESS=470 W. Church Street\, Newa
 rk\, Ohio\, 43055\, United States;X-APPLE-RADIUS=100;X-TITLE=Licking Count
 y Family YMCA:geo:40.05805,-82.421611
END:VEVENT
BEGIN:VTIMEZONE
TZID:America/New_York
X-LIC-LOCATION:America/New_York
BEGIN:DAYLIGHT
DTSTART:20250309T030000
TZOFFSETFROM:-0500
TZOFFSETTO:-0400
TZNAME:EDT
END:DAYLIGHT
END:VTIMEZONE
END:VCALENDAR