BEGIN:VCALENDAR
VERSION:2.0
PRODID:-//wp-events-plugin.com//7.2.3.1//EN
TZID:America/New_York
X-WR-TIMEZONE:America/New_York
BEGIN:VEVENT
UID:2903@lickingevents.com
DTSTART;TZID=America/New_York:20250221T190000
DTEND;TZID=America/New_York:20250221T203000
DTSTAMP:20250120T212223Z
URL:https://lickingevents.com/events/bluegrass-and-american-roots-festival
 -the-cleverlys/
SUMMARY:Bluegrass and American Roots Festival: The Cleverlys
DESCRIPTION:The Department of Music presents its annual Bluegrass and Ameri
 can Roots Festival\, featuring The Cleverlys on Friday night and The Po’
  Ramblin’ Boys on Saturday night. Denison’s Bluegrass and American Roo
 ts Ensemble\, under the direction of Adam Schlenker\, will open each conce
 rt with a short set. In addition to the two evenings of exciting concerts\
 , there will be an afternoon of workshops on Saturday where students\, loc
 al musicians\, and guest artists can form pop-up bands for rehearsals\, ja
 mming\, and performances in a band-mixer format. These events are free and
  open to the public\; however\, concert tickets are required.\n\nThe Cleve
 rlys is a one-of-a-kind\, unique comedy and music experience. Starting fro
 m their humble beginnings in the Ozark Mountains\, the group has grown to 
 headline festivals and performing arts centers across the country\, even r
 egularly taking the stage at the prestigious Grand Ole Opry. One thing is 
 certain: there is no other show quite like this one.\n\nJoin us for other 
 events of the festival:\n\nBand mixer workshops - Feb. 22\, 12 to 3 p.m. -
  The Eisner Center (No tickets required)\n\nThe Po’ Ramblin’ Boys in c
 oncert - Feb. 22\, 7 p.m. - Swasey Chapel (Tickets required)
CATEGORIES:Entertainment
LOCATION:Swasey Chapel Denison Unversity\, 200 Chapel Drive\, Granville\, O
 H\, United States
GEO:40.071116;-82.52164
X-APPLE-STRUCTURED-LOCATION;VALUE=URI;X-ADDRESS=200 Chapel Drive\, Granvill
 e\, OH\, United States;X-APPLE-RADIUS=100;X-TITLE=Swasey Chapel Denison Un
 versity:geo:40.071116,-82.52164
END:VEVENT
BEGIN:VTIMEZONE
TZID:America/New_York
X-LIC-LOCATION:America/New_York
BEGIN:STANDARD
DTSTART:20241103T010000
TZOFFSETFROM:-0400
TZOFFSETTO:-0500
TZNAME:EST
END:STANDARD
END:VTIMEZONE
END:VCALENDAR