BEGIN:VCALENDAR
VERSION:2.0
PRODID:-//wp-events-plugin.com//7.2.3.1//EN
TZID:America/New_York
X-WR-TIMEZONE:America/New_York
BEGIN:VEVENT
UID:4125@lickingevents.com
DTSTART;TZID=America/New_York:20260516T130000
DTEND;TZID=America/New_York:20260516T143000
DTSTAMP:20260331T183956Z
URL:https://lickingevents.com/events/blackhand-gorge-trillium-hike/
SUMMARY:Blackhand Gorge Trillium Hike
DESCRIPTION:Join us for a wildflower wander at Blackhand Gorge! We will ram
 ble along the Bike trail and Buttonbush trail for a 1-mile hike to look fo
 r trilliums and their wildflower neighbors. Bring the family for this easy
  to moderate hike.\n\nPlease dress for the weather and be prepared for pos
 sible muddy conditions along the Buttonbush trail. Please join us at the B
 ike Trail Parking Lot in Toboso.\n\nReminder: The Bike trail is the only p
 et friendly trail in the preserve. The Buttonbush trail is not pet friendl
 y.\n\nQuestions? Please email kayla.bowyer@dnr.ohio.gov or call (740)380-8
 918.\nhttps://ohiodnr.gov/home/news-and-events/all-events/Natural-Areas-an
 d-Preserves/Central%20Ohio/blackhandgorgetrilliumhike-051626
CATEGORIES:Charity and Educational Events,Festivals and Outdoor Events
LOCATION:Blackhand Gorge Bike Trail Parking Lot\, 2200 Gratiot Road SE\, Ne
 wark\, Licking County\, Ohio\, 43056\, United States
GEO:40.055907;-82.217992
X-APPLE-STRUCTURED-LOCATION;VALUE=URI;X-ADDRESS=2200 Gratiot Road SE\, Newa
 rk\, Licking County\, Ohio\, 43056\, United States;X-APPLE-RADIUS=100;X-TI
 TLE=Blackhand Gorge Bike Trail Parking Lot:geo:40.055907,-82.217992
END:VEVENT
BEGIN:VTIMEZONE
TZID:America/New_York
X-LIC-LOCATION:America/New_York
BEGIN:DAYLIGHT
DTSTART:20260308T030000
TZOFFSETFROM:-0500
TZOFFSETTO:-0400
TZNAME:EDT
END:DAYLIGHT
END:VTIMEZONE
END:VCALENDAR