BEGIN:VCALENDAR
VERSION:2.0
PRODID:-//wp-events-plugin.com//7.2.3.1//EN
TZID:America/New_York
X-WR-TIMEZONE:America/New_York
BEGIN:VEVENT
UID:4123@lickingevents.com
DTSTART;TZID=America/New_York:20260513T090000
DTEND;TZID=America/New_York:20260513T140000
DTSTAMP:20260331T184031Z
URL:https://lickingevents.com/events/blackhand-gorge-garlic-mustard-pull/
SUMMARY:Blackhand Gorge Garlic Mustard Pull
DESCRIPTION:Join DNAP staff at Blackhand Gorge as we remove garlic mustard.
  This invasive plant will take over our forests if not managed\, outcompet
 ing beloved spring wildflowers.\n\nWe will be offering two sessions to rem
 ove garlic mustard: 9-11 am and 12-2 pm. Participants can choose morning\,
  afternoon\, or both!\n\nWe will provide trash bags and buckets for invasi
 ve removal. Please bring your choice of gloves and other appropriate outdo
 or gear. Be prepared for hiking through brush and the possibility of ticks
  and poison ivy.\n\nPlease register for this volunteer opportunity by emai
 ling Kayla Bowyer or calling (740) 380-8918.\n\nPlease specifcy which time
  slot you want to join when registering. Parking information will be sent 
 once you register for this event.\n\nRegistration ends May 11.\n\nhttps://
 ohiodnr.gov/home/news-and-events/all-events/Natural-Areas-and-Preserves/Ce
 ntral%20Ohio/blackhandgorgegarlicmustardpull-051326
CATEGORIES:Charity and Educational Events,Festivals and Outdoor Events
LOCATION:Blackhand Gorge Bike Trail Parking Lot\, 2200 Gratiot Road SE\, Ne
 wark\, Licking County\, Ohio\, 43056\, United States
GEO:40.055907;-82.217992
X-APPLE-STRUCTURED-LOCATION;VALUE=URI;X-ADDRESS=2200 Gratiot Road SE\, Newa
 rk\, Licking County\, Ohio\, 43056\, United States;X-APPLE-RADIUS=100;X-TI
 TLE=Blackhand Gorge Bike Trail Parking Lot:geo:40.055907,-82.217992
END:VEVENT
BEGIN:VTIMEZONE
TZID:America/New_York
X-LIC-LOCATION:America/New_York
BEGIN:DAYLIGHT
DTSTART:20260308T030000
TZOFFSETFROM:-0500
TZOFFSETTO:-0400
TZNAME:EDT
END:DAYLIGHT
END:VTIMEZONE
END:VCALENDAR