BEGIN:VCALENDAR
VERSION:2.0
PRODID:-//wp-events-plugin.com//7.2.3.1//EN
TZID:America/New_York
X-WR-TIMEZONE:America/New_York
BEGIN:VEVENT
UID:4124@lickingevents.com
DTSTART;TZID=America/New_York:20260516T100000
DTEND;TZID=America/New_York:20260516T120000
DTSTAMP:20260331T184038Z
URL:https://lickingevents.com/events/blackhand-gorge-garlic-mustard-pull-2
 /
SUMMARY:Blackhand Gorge Garlic Mustard Pull
DESCRIPTION:Join DNAP staff at Blackhand Gorge as we remove Garlic Mustard.
  This invasive plant will take over our forests if not managed\, outcompet
 ing beloved spring wildflowers.\n\nWe will provide trash bags and buckets 
 for invasive removal. Please bring your choice of gloves and other appropr
 iate outdoor gear. Be prepared for hiking through brush and the possiblity
  of ticks and poison ivy.\n\nPlease register for this volunteer opportunit
 y by emailing kayla.bowyer@dnr.ohio.gov or calling (740)380-8918.\n\nParki
 ng informaiton will be sent once you register for this event.\n\nRegistrat
 ion ends May 14.\nhttps://ohiodnr.gov/home/news-and-events/all-events/Natu
 ral-Areas-and-Preserves/Central%20Ohio/blackhandgorgegarlicmustardpull-051
 626
CATEGORIES:Charity and Educational Events,Festivals and Outdoor Events
LOCATION:Blackhand Gorge Bike Trail Parking Lot\, 2200 Gratiot Road SE\, Ne
 wark\, Licking County\, Ohio\, 43056\, United States
GEO:40.055907;-82.217992
X-APPLE-STRUCTURED-LOCATION;VALUE=URI;X-ADDRESS=2200 Gratiot Road SE\, Newa
 rk\, Licking County\, Ohio\, 43056\, United States;X-APPLE-RADIUS=100;X-TI
 TLE=Blackhand Gorge Bike Trail Parking Lot:geo:40.055907,-82.217992
END:VEVENT
BEGIN:VTIMEZONE
TZID:America/New_York
X-LIC-LOCATION:America/New_York
BEGIN:DAYLIGHT
DTSTART:20260308T030000
TZOFFSETFROM:-0500
TZOFFSETTO:-0400
TZNAME:EDT
END:DAYLIGHT
END:VTIMEZONE
END:VCALENDAR