BEGIN:VCALENDAR
VERSION:2.0
PRODID:-//wp-events-plugin.com//7.2.3.1//EN
TZID:America/New_York
X-WR-TIMEZONE:America/New_York
BEGIN:VEVENT
UID:326@lickingevents.com
DTSTART;TZID=America/New_York:20220105T163000
DTEND;TZID=America/New_York:20220330T210000
DTSTAMP:20211228T141621Z
URL:https://lickingevents.com/events/bingo-vfw-post-1060-newark-ohio-wedne
 sday-night-bingo/
SUMMARY:BINGO VFW POST 1060 - NEWARK\, OHIO  (WEDNESDAY NIGHT BINGO)
DESCRIPTION:Open to the Public.\nBingo every Wednesday night.\nWe open at 4
 :30 PM.  Bingo starts at 6:30 PM.\n469 Forry Street\, Newark\, OH.\n740-34
 5-0863 (Post) or 740-334-5532.\nBingo VFW 1060 - Newark\, Ohio (facebook)\
 nProceeds go to support our Veterans\, Programs and Community.
CATEGORIES:Charity and Educational Events
LOCATION:VFW Post 1060\, 469 Forry Street\, Newark\, Ohio\, 43055\, United 
 States
GEO:40.045316;-82.419894
X-APPLE-STRUCTURED-LOCATION;VALUE=URI;X-ADDRESS=469 Forry Street\, Newark\,
  Ohio\, 43055\, United States;X-APPLE-RADIUS=100;X-TITLE=VFW Post 1060:geo
 :40.045316,-82.419894
END:VEVENT
BEGIN:VTIMEZONE
TZID:America/New_York
X-LIC-LOCATION:America/New_York
BEGIN:STANDARD
DTSTART:20211107T010000
TZOFFSETFROM:-0400
TZOFFSETTO:-0500
TZNAME:EST
END:STANDARD
BEGIN:DAYLIGHT
DTSTART:20220313T030000
TZOFFSETFROM:-0500
TZOFFSETTO:-0400
TZNAME:EDT
END:DAYLIGHT
END:VTIMEZONE
END:VCALENDAR