BEGIN:VCALENDAR
VERSION:2.0
PRODID:-//wp-events-plugin.com//7.2.3.1//EN
TZID:America/New_York
X-WR-TIMEZONE:America/New_York
BEGIN:VEVENT
UID:3972@lickingevents.com
DTSTART;TZID=America/New_York:20260618T160000
DTEND;TZID=America/New_York:20260618T190000
DTSTAMP:20260310T115514Z
URL:https://lickingevents.com/events/a-touch-of-glass-gala-opening-of-heis
 ey-glass-show-and-sale/
SUMMARY:A Touch of Glass Gala Opening of Heisey Glass Show and Sale
DESCRIPTION:Lovers of vintage\, handcrafted glass will find a sparkling sel
 ection of collectable table glass at the gala opening of the Annual Glass 
 Show and Sale sponsored by Heisey Collectors of America\, which owns and o
 perates the National Heisey Glass Museum in Newark. Heavy appetizers and c
 hampagne included with $10 admission.\n\nThe event features national deale
 rs selling fine\, vintage\, American-made glassware including stemware\, b
 arware\, bowls\, vases\, candlesticks and more. While the show focuses on 
 glass made in Newark by A.H. Heisey &amp\; Company between 1896 and 1957\,
  it will also include glass from other manufacturers.
CATEGORIES:Everything (only)
LOCATION:The Skylight\, 85 East Main St\, Newark\, Ohio\, 43055\, United St
 ates
GEO:40.05835;-82.398627
X-APPLE-STRUCTURED-LOCATION;VALUE=URI;X-ADDRESS=85 East Main St\, Newark\, 
 Ohio\, 43055\, United States;X-APPLE-RADIUS=100;X-TITLE=The Skylight:geo:4
 0.05835,-82.398627
END:VEVENT
BEGIN:VTIMEZONE
TZID:America/New_York
X-LIC-LOCATION:America/New_York
BEGIN:DAYLIGHT
DTSTART:20260308T030000
TZOFFSETFROM:-0500
TZOFFSETTO:-0400
TZNAME:EDT
END:DAYLIGHT
END:VTIMEZONE
END:VCALENDAR