BEGIN:VCALENDAR
VERSION:2.0
PRODID:-//wp-events-plugin.com//7.2.3.1//EN
TZID:America/New_York
X-WR-TIMEZONE:America/New_York
BEGIN:VEVENT
UID:3973@lickingevents.com
DTSTART;TZID=America/New_York:20260619T120000
DTEND;TZID=America/New_York:20260619T160000
DTSTAMP:20260310T115527Z
URL:https://lickingevents.com/events/a-touch-of-glass-free-heisey-glass-sh
 ow-and-sale/
SUMMARY:"A Touch of Glass" FREE Heisey Glass Show and Sale
DESCRIPTION:Lovers of vintage\, handcrafted glass will find a sparkling sel
 ection of collectable table glass at the free Annual Glass Show and Sale s
 ponsored by Heisey Collectors of America\, which owns and operates the Nat
 ional Heisey Glass Museum in Newark.\n\nThe event features national dealer
 s selling fine\, vintage\, American-made glassware including stemware\, ba
 rware\, bowls\, vases\, candlesticks and more. While the show focuses on g
 lass made in Newark by A.H. Heisey &amp\; Company between 1896 and 1957\, 
 it will also include glass from other manufacturers.
CATEGORIES:Everything (only)
LOCATION:The Skylight\, 85 East  Main St.\, Newark\, Ohio\, 43055\, United 
 States
GEO:40.05835;-82.398627
X-APPLE-STRUCTURED-LOCATION;VALUE=URI;X-ADDRESS=85 East  Main St.\, Newark\
 , Ohio\, 43055\, United States;X-APPLE-RADIUS=100;X-TITLE=The Skylight:geo
 :40.05835,-82.398627
END:VEVENT
BEGIN:VTIMEZONE
TZID:America/New_York
X-LIC-LOCATION:America/New_York
BEGIN:DAYLIGHT
DTSTART:20260308T030000
TZOFFSETFROM:-0500
TZOFFSETTO:-0400
TZNAME:EDT
END:DAYLIGHT
END:VTIMEZONE
END:VCALENDAR