BEGIN:VCALENDAR
VERSION:2.0
PRODID:-//wp-events-plugin.com//7.2.3.1//EN
TZID:America/New_York
X-WR-TIMEZONE:America/New_York
BEGIN:VEVENT
UID:2392@lickingevents.com
DTSTART;TZID=America/New_York:20240817T120000
DTEND;TZID=America/New_York:20240817T200000
DTSTAMP:20240618T153805Z
URL:https://lickingevents.com/events/71st-annual-newark-maennerchor-ox-roa
 st/
SUMMARY:71st Annual Newark Maennerchor OX Roast
DESCRIPTION:This is our annual German festival\, with great German food and
  desserts.\nOur food prices are low as we want this to be a family event\,
  with good entertainment.\nThe Columbus Maennerchor\, Newark Maennerchor\,
  and Germania singers\, followed by Aaron Dussings Polka band. Bouncy hous
 es and face painting for the kis as well as popula character.\nWe have a b
 eautiful facility with a large pavion\, so it will happen rain or shine.\n
 Please see our facebook page for for more information\, Newark Ohio Maenne
 rchor
CATEGORIES:Festivals and Outdoor Events
LOCATION:Newark Männerchor\, 195 W. Orchard Street  \, Newark\, OH\, 43055
 \, United States
GEO:40.041398;-82.411554
X-APPLE-STRUCTURED-LOCATION;VALUE=URI;X-ADDRESS=195 W. Orchard Street  \, N
 ewark\, OH\, 43055\, United States;X-APPLE-RADIUS=100;X-TITLE=Newark Männ
 erchor:geo:40.041398,-82.411554
END:VEVENT
BEGIN:VTIMEZONE
TZID:America/New_York
X-LIC-LOCATION:America/New_York
BEGIN:DAYLIGHT
DTSTART:20240310T030000
TZOFFSETFROM:-0500
TZOFFSETTO:-0400
TZNAME:EDT
END:DAYLIGHT
END:VTIMEZONE
END:VCALENDAR