BEGIN:VCALENDAR
VERSION:2.0
PRODID:-//wp-events-plugin.com//7.2.3.1//EN
TZID:America/New_York
X-WR-TIMEZONE:America/New_York
BEGIN:VEVENT
UID:4176@lickingevents.com
DTSTART;TZID=America/New_York:20260509T193000
DTEND;TZID=America/New_York:20260509T213000
DTSTAMP:20260422T185217Z
URL:https://lickingevents.com/events/50th-annual-denison-film-festival/
SUMMARY:50th Annual Denison Film Festival
DESCRIPTION:Join the Department of Cinema for the 50th Annual Denison Film 
 Festival! The event features a screening of 10 short films made by junior 
 and senior Cinema majors.
CATEGORIES:Entertainment
LOCATION:Slayter union\, 200 Ridge Rd\, Granville\, OH 43023\, Granville\, 
 Ohio\, 44000\, United States
GEO:40.071174;-82.524003
X-APPLE-STRUCTURED-LOCATION;VALUE=URI;X-ADDRESS=200 Ridge Rd\, Granville\, 
 OH 43023\, Granville\, Ohio\, 44000\, United States;X-APPLE-RADIUS=100;X-T
 ITLE=Slayter union:geo:40.071174,-82.524003
END:VEVENT
BEGIN:VTIMEZONE
TZID:America/New_York
X-LIC-LOCATION:America/New_York
BEGIN:DAYLIGHT
DTSTART:20260308T030000
TZOFFSETFROM:-0500
TZOFFSETTO:-0400
TZNAME:EDT
END:DAYLIGHT
END:VTIMEZONE
END:VCALENDAR