BEGIN:VCALENDAR
VERSION:2.0
PRODID:-//wp-events-plugin.com//7.2.3.1//EN
TZID:America/New_York
X-WR-TIMEZONE:America/New_York
BEGIN:VEVENT
UID:4178@lickingevents.com
DTSTART;TZID=America/New_York:20260509T100000
DTEND;TZID=America/New_York:20260509T150000
DTSTAMP:20260422T185253Z
URL:https://lickingevents.com/events/4th-annual-fostering-further-car-show
 /
SUMMARY:4th Annual Fostering Further Car show
DESCRIPTION:Car Show benefiting Fostering Further to assist with our local 
 Foster children . There will be approx 50 awards. 50-50\, raffle items \, 
 DJ music \, and food for purchase. Please join us to raise money and aware
 ness for our Foster children. Thank you!
CATEGORIES:Charity and Educational Events
LOCATION:NEWARK EAGLES\, 52 FORRY AVE \, NEWARK\, OH\, 43055\, United State
 s
GEO:40.04524;-82.417546
X-APPLE-STRUCTURED-LOCATION;VALUE=URI;X-ADDRESS=52 FORRY AVE \, NEWARK\, OH
 \, 43055\, United States;X-APPLE-RADIUS=100;X-TITLE=NEWARK EAGLES:geo:40.0
 4524,-82.417546
END:VEVENT
BEGIN:VTIMEZONE
TZID:America/New_York
X-LIC-LOCATION:America/New_York
BEGIN:DAYLIGHT
DTSTART:20260308T030000
TZOFFSETFROM:-0500
TZOFFSETTO:-0400
TZNAME:EDT
END:DAYLIGHT
END:VTIMEZONE
END:VCALENDAR