BEGIN:VCALENDAR
VERSION:2.0
PRODID:-//wp-events-plugin.com//7.2.3.1//EN
TZID:America/New_York
X-WR-TIMEZONE:America/New_York
BEGIN:VEVENT
UID:2598@lickingevents.com
DTSTART;TZID=America/New_York:20241025T193000
DTEND;TZID=America/New_York:20241025T210000
DTSTAMP:20240913T190729Z
URL:https://lickingevents.com/events/28th-annual-jazz-guitar-festival-pete
 r-bernstein/
SUMMARY:28th Annual Jazz Guitar Festival: Peter Bernstein
DESCRIPTION:The Department of Music\, with support from the Vail Series\, p
 resents the 28th annual Jazz Guitar Festival featuring Randy Napoleon on T
 hursday\, October 24\, and Peter Bernstein on Friday\, October 25.\n\nJazz
  guitarist Peter Bernstein has been a part of the jazz scene in New York a
 nd abroad since 1989. During that time he has participated in numerous rec
 ordings and performances with musicians from all generations. As a leader\
 , Bernstein has released nine albums and a DVD. As a sideman\, he has appe
 ared in groups led by Sonny Rollins\, Bobby Hutcherson\, George Coleman\, 
 Lou Donaldson\, Dr. Lonnie Smith\, Fathead Newman\, Joshua Redman\, Brad M
 ehldau\, Diana Krall\, Lee Konitz\, Jimmy Cobb\, and many more.\n\nThe fes
 tival is free and open to the public\; however\, tickets are required. Tic
 kets will be available on October 3.
CATEGORIES:Entertainment
LOCATION:Sharon Martin Hall in the Michael D. Eisner Center Denison Univers
 ity\, 240 W Broadway\, Granville\, OH\, United States
GEO:40.069083;-82.523192
X-APPLE-STRUCTURED-LOCATION;VALUE=URI;X-ADDRESS=240 W Broadway\, Granville\
 , OH\, United States;X-APPLE-RADIUS=100;X-TITLE=Sharon Martin Hall in the 
 Michael D. Eisner Center Denison University:geo:40.069083,-82.523192
END:VEVENT
BEGIN:VTIMEZONE
TZID:America/New_York
X-LIC-LOCATION:America/New_York
BEGIN:DAYLIGHT
DTSTART:20240310T030000
TZOFFSETFROM:-0500
TZOFFSETTO:-0400
TZNAME:EDT
END:DAYLIGHT
END:VTIMEZONE
END:VCALENDAR