BEGIN:VCALENDAR
VERSION:2.0
PRODID:-//wp-events-plugin.com//7.2.3.1//EN
TZID:America/New_York
X-WR-TIMEZONE:America/New_York
BEGIN:VEVENT
UID:4116@lickingevents.com
DTSTART;TZID=America/New_York:20260515T100000
DTEND;TZID=America/New_York:20260515T140000
DTSTAMP:20260330T151057Z
URL:https://lickingevents.com/events/2026-senior-health-and-wellness-expo/
SUMMARY:2026 Senior Health and Wellness Expo
DESCRIPTION:Mark your calendar for our 2026 Senior Health &amp\; Wellness E
 xpo on Friday\, May 15\, from 10:00 AM to 2:00 PM. This free public event 
 is a great opportunity for Licking County seniors to connect with over 40 
 local vendors offering valuable resources and services. Those supporting a
  senior family member or friend are also welcome to attend and explore ava
 ilable resources. Enjoy informative exhibits\, raffle prizes\, and delicio
 us food from Pitabilities and Rolls by the Pound Italian Ice food trucks. 
 Don’t miss this chance to learn\, engage\, and celebrate wellness. We lo
 ok forward to seeing you there!
CATEGORIES:Charity and Educational Events
LOCATION:Licking County Aging Partners\, 1058 E Main St\, Newark\, Ohio\, 4
 3055-6940\, United States
GEO:40.062114;-82.362235
X-APPLE-STRUCTURED-LOCATION;VALUE=URI;X-ADDRESS=1058 E Main St\, Newark\, O
 hio\, 43055-6940\, United States;X-APPLE-RADIUS=100;X-TITLE=Licking County
  Aging Partners:geo:40.062114,-82.362235
END:VEVENT
BEGIN:VTIMEZONE
TZID:America/New_York
X-LIC-LOCATION:America/New_York
BEGIN:DAYLIGHT
DTSTART:20260308T030000
TZOFFSETFROM:-0500
TZOFFSETTO:-0400
TZNAME:EDT
END:DAYLIGHT
END:VTIMEZONE
END:VCALENDAR