BEGIN:VCALENDAR
VERSION:2.0
PRODID:-//wp-events-plugin.com//7.2.3.1//EN
TZID:America/New_York
X-WR-TIMEZONE:America/New_York
BEGIN:VEVENT
UID:3451@lickingevents.com
DTSTART;TZID=America/New_York:20250830T090000
DTEND;TZID=America/New_York:20250830T180000
DTSTAMP:20250828T181416Z
URL:https://lickingevents.com/events/2025-swappers-day/
SUMMARY:2025 Swappers Day
DESCRIPTION:Come to the 81st Annual Swappers Day on Labor Day weekend - Sat
 urday\, August 30th through Monday\, September 1st. Swapper’s Day\, whic
 h began in 1944\, is a fun annual event conducted by the Johnstown Communi
 ty Sportsmen's Club at their property four miles east of Johnstown. Follow
  the signs off Route 62.\n\nCome enjoy the flea market with potential for 
 more than 700 vendor spaces\, concessions\, and food on the grounds. There
  will be multiple games of chance through local non-profit groups\, with c
 ash and prizes for winners.\n\nGates are open from 9:00 AM to 6:00 PM. Par
 king on club grounds is free\, and there is limited handicapped parking av
 ailable in a designated lot. Admission is $10 per person (cash only) and c
 hildren 10 and under may enter for free. Please\, no pets or alcohol on th
 e grounds and no camping in the parking lots. For directions and other inf
 ormation access website https://jcscohio.org/swappers-day/\n\nAll state an
 d federal firearms laws will be followed. There will be no concealed carry
 . All guns brought to Swappers Day upon entry must be unloaded with their 
 actions immobilized for safety purposes. There are 20 X 20 ft vendor space
 s still available for rent\, $125 for the whole weekend.
CATEGORIES:Festivals and Outdoor Events
LOCATION:Johnstown Community Sportsmen's Club\, 7357 Sportsman Club Road NW
 \, Johnstown\, OH\, 43031\, Central Ohio\, United States
GEO:40.157321;-82.632032
X-APPLE-STRUCTURED-LOCATION;VALUE=URI;X-ADDRESS=7357 Sportsman Club Road NW
 \, Johnstown\, OH\, 43031\, Central Ohio\, United States;X-APPLE-RADIUS=10
 0;X-TITLE=Johnstown Community Sportsmen's Club:geo:40.157321,-82.632032
END:VEVENT
BEGIN:VTIMEZONE
TZID:America/New_York
X-LIC-LOCATION:America/New_York
BEGIN:DAYLIGHT
DTSTART:20250309T030000
TZOFFSETFROM:-0500
TZOFFSETTO:-0400
TZNAME:EDT
END:DAYLIGHT
END:VTIMEZONE
END:VCALENDAR